BEGIN:VCALENDAR
VERSION:2.0
PRODID:-//Springbank Hill Community Association - ECPv6.11.0.1//NONSGML v1.0//EN
CALSCALE:GREGORIAN
METHOD:PUBLISH
X-WR-CALNAME:Springbank Hill Community Association
X-ORIGINAL-URL:https://springbankhill.org
X-WR-CALDESC:Events for Springbank Hill Community Association
REFRESH-INTERVAL;VALUE=DURATION:PT1H
X-Robots-Tag:noindex
X-PUBLISHED-TTL:PT1H
BEGIN:VTIMEZONE
TZID:America/Edmonton
BEGIN:DAYLIGHT
TZOFFSETFROM:-0700
TZOFFSETTO:-0600
TZNAME:MDT
DTSTART:20250309T090000
END:DAYLIGHT
BEGIN:STANDARD
TZOFFSETFROM:-0600
TZOFFSETTO:-0700
TZNAME:MST
DTSTART:20251102T080000
END:STANDARD
END:VTIMEZONE
BEGIN:VEVENT
DTSTART;TZID=America/Edmonton:20251108T180000
DTEND;TZID=America/Edmonton:20251108T200000
DTSTAMP:20260421T053158
CREATED:20250930T160954Z
LAST-MODIFIED:20250930T160954Z
UID:1871-1762624800-1762632000@springbankhill.org
SUMMARY:Wine on the Hill
DESCRIPTION:Get ready to sip\, swirl\, and savor at Wine on the Hill – a community fundraiser brought to you by \n\nSBHCA and BKL Wine Merchants\n\nDate: Saturday\, November 8\, 2025\n\nTime: 6:00 pm to 8:00 pm\n\nLocation: 205 Spring Creek Common SW #128\n\nThere are only 25 tickets available to purchase.  You must be 18 years of age to be a ticket holder.\n\n“Please note that by purchasing this ticket you agree that you are responsible for arranging a safe ride home from our tasting.”\n\n \n\n 
URL:https://springbankhill.org/event/wine-on-the-hill/
LOCATION:BKL Wine Merchants\, 205 Spring Creek Common SW #128\, Calgary\, Alberta\, Canada
END:VEVENT
END:VCALENDAR